BEGIN:VCALENDAR
VERSION:2.0
PRODID:-//ChamberMaster//Event Calendar 2.0//EN
METHOD:PUBLISH
X-PUBLISHED-TTL:P3D
REFRESH-INTERVAL:P3D
CALSCALE:GREGORIAN
BEGIN:VEVENT
DTSTART:20180630T210000Z
DTEND:20180701T010000Z
X-MICROSOFT-CDO-ALLDAYEVENT:FALSE
SUMMARY:Boys & Girls Clubs of North Central Georgia Duck Derby
DESCRIPTION:Adopt a duck\, save a life! The Boys & Girls Clubs of North Central Georgia will be hosting the First Annual Duck Derby on June 30\, 2018 at Porterdale Yellow River Park. Anyone can adopt one of 5\,000 rubber duckies for $20. On June 30 we will dump them all in the Yellow River\, and the first duck to float across the finish line wins $10\,000! Other prizes include tickets to Disney World\, Your Pie for a Year\, golf at The Oaks Golf Course in Covington\, and a Webber Grill. You can purchase a duck at various locations throughout Newton County or online at www.bgcncg.com/duckderby. Thank you for your support in bringing a Boys & Girls Club to Newton County\, and good luck!
X-ALT-DESC;FMTTYPE=text/html:Adopt a duck\, save a life! The Boys &amp\; Girls Clubs of North Central Georgia will be hosting the First Annual Duck Derby on June 30\, 2018 at Porterdale Yellow River Park. Anyone can adopt one of 5\,000 rubber duckies for $20. On June 30 we will dump them all in the Yellow River\, and the first duck to float across the finish line wins&nbsp\;<strong><u>$10\,000!</u></strong>&nbsp\;Other prizes include tickets to Disney World\, Your Pie for a Year\, golf at The Oaks Golf Course in Covington\, and a Webber Grill. You can purchase a duck at various locations throughout Newton County or online at www.bgcncg.com/duckderby. Thank you for your support in bringing a Boys &amp\; Girls Club to Newton County\, and good luck!
LOCATION:Porterdale Yellow River Park 739 Railroad St Porterdale GA\, 30014
UID:e.1627.6635
SEQUENCE:3
DTSTAMP:20260423T032437Z
URL:https://business.newtonchamber.com/events/details/boys-girls-clubs-of-north-central-georgia-duck-derby-6635
END:VEVENT

END:VCALENDAR
