BEGIN:VCALENDAR
VERSION:2.0
PRODID:-//ChamberMaster//Event Calendar 2.0//EN
METHOD:PUBLISH
X-PUBLISHED-TTL:P3D
REFRESH-INTERVAL:P3D
CALSCALE:GREGORIAN
BEGIN:VEVENT
DTSTART:20170830T140000Z
DTEND:20170830T190000Z
X-MICROSOFT-CDO-ALLDAYEVENT:FALSE
SUMMARY:Bloodmobile Drive
DESCRIPTION:Will you please put that Carmichael's is having the American Red Cross Bloodmobile here in the parking lot for a Blood Drive in Memory of Greg Hickman on Wednesday\, August 30th from 10:00am-3:00pm??\n\n \n\nThanks.\n\n \n\nCarol
X-ALT-DESC;FMTTYPE=text/html:<div>Will you please put that Carmichael&#39\;s is having the American Red Cross Bloodmobile here in the parking lot for a Blood Drive in Memory of Greg Hickman on Wednesday\, August 30th from 10:00am-3:00pm??</div>\n\n<div>&nbsp\;</div>\n\n<div>Thanks.</div>\n\n<div>&nbsp\;</div>\n\n<div>Carol</div>\n
LOCATION:
UID:e.1627.3929
SEQUENCE:3
DTSTAMP:20260422T131223Z
URL:https://business.newtonchamber.com/events/details/bloodmobile-drive-3929
END:VEVENT

END:VCALENDAR
