BEGIN:VCALENDAR
VERSION:2.0
PRODID:-//ChamberMaster//Event Calendar 2.0//EN
METHOD:PUBLISH
X-PUBLISHED-TTL:P3D
REFRESH-INTERVAL:P3D
CALSCALE:GREGORIAN
BEGIN:VEVENT
DTSTART:20210419T230000Z
DTEND:20210420T000000Z
X-MICROSOFT-CDO-ALLDAYEVENT:FALSE
SUMMARY:Bible Information Class
DESCRIPTION:This 12-week class is designed to answer your questions about God's Word and Faith.  Each week\, we'll tackle another key teaching of Scripture and see what God says about it.  We'd love to have you join us.
X-ALT-DESC;FMTTYPE=text/html:This 12-week class is designed to answer your questions about God&#39\;s Word and Faith.&nbsp\; Each week\, we&#39\;ll tackle another key teaching of Scripture and see what God says about it.&nbsp\; We&#39\;d love to have you join us.
LOCATION:Abiding Grace Lutheran Church 5500 Hwy 212 Covington\, GA 30016
UID:e.1627.10355
SEQUENCE:3
DTSTAMP:20260423T200200Z
URL:https://business.newtonchamber.com/events/details/bible-information-class-04-19-2021-10355
END:VEVENT

END:VCALENDAR
