BEGIN:VCALENDAR
VERSION:2.0
PRODID:-//ChamberMaster//Event Calendar 2.0//EN
METHOD:PUBLISH
X-PUBLISHED-TTL:P3D
REFRESH-INTERVAL:P3D
CALSCALE:GREGORIAN
BEGIN:VEVENT
DTSTART:20180224T140000Z
DTEND:20180224T160000Z
X-MICROSOFT-CDO-ALLDAYEVENT:FALSE
SUMMARY:Beginner Sewing Classes
DESCRIPTION:Beginners' Sewing Class:\n\nInstructors Jackie Kelly & Lauren Baulkmon\n\n6 Sessions $225 - Ages 15 to Adult\n\nSaturday Mornings 9-11AM\n\nFebruary 3\, 10\, 17\, 24\, and March 3 & 10\n\nLearn to:\n\n1.Operate Your Machine\n\n2.Take Body Measurements\n\n3.Use Commercial Patterns\n\n4.Use "Tailor Tacks"\n\n5.Construct a Garment\n\nWe will complete FOUR projects in SIX weeks!\n\nFor Supply List and Further Details\, \n\nCall Jackie Kelly at 678-386-7580\n\nOr Email: skel621@aol.com
X-ALT-DESC;FMTTYPE=text/html:<div><span style="font-family:helvetica\,arial\,sans-serif"><span style="color:rgb(255\, 0\, 255)\; font-size:large"><strong>Beginners&rsquo\; Sewing Class:</strong></span></span><br />\n<span style="color:rgb(29\, 33\, 41)\; font-family:helvetica\,arial\,sans-serif\; font-size:14px">Instructors Jackie Kelly &amp\; Lauren Baulkmon</span><br />\n<span style="color:rgb(29\, 33\, 41)\; font-family:helvetica\,arial\,sans-serif\; font-size:14px">6 Sessions $225 - Ages 15 to Adult</span><br />\n<span style="color:rgb(29\, 33\, 41)\; font-family:helvetica\,arial\,sans-serif\; font-size:14px">Saturday&nbsp\;Mornings&nbsp\;9-11AM</span><br />\n<span style="color:rgb(29\, 33\, 41)\; font-family:helvetica\,arial\,sans-serif\; font-size:14px">February 3\, 10\, 17\, 24\, and&nbsp\;March 3 &amp\; 10</span><br />\n<span style="color:rgb(29\, 33\, 41)\; font-family:helvetica\,arial\,sans-serif\; font-size:14px">Learn to:</span></div>\n\n<div><span style="color:rgb(29\, 33\, 41)\; font-family:helvetica\,arial\,sans-serif\; font-size:14px">1.Operate Your Machine</span></div>\n\n<div><span style="color:rgb(29\, 33\, 41)\; font-family:helvetica\,arial\,sans-serif\; font-size:14px">2.Take Body Measurements</span></div>\n\n<div><span style="color:rgb(29\, 33\, 41)\; font-family:helvetica\,arial\,sans-serif\; font-size:14px">3.Use Commercial Patterns</span></div>\n\n<div><span style="color:rgb(29\, 33\, 41)\; font-family:helvetica\,arial\,sans-serif\; font-size:14px">4.Use &ldquo\;Tailor Tacks&rdquo\;</span></div>\n\n<div><span style="color:rgb(29\, 33\, 41)\; font-family:helvetica\,arial\,sans-serif\; font-size:14px">5.Construct a Garment</span></div>\n\n<div><span style="color:rgb(29\, 33\, 41)\; font-family:helvetica\,arial\,sans-serif\; font-size:14px">We will complete FOUR projects&nbsp\;in SIX weeks!<br />\nFor Supply List and Further Details\,&nbsp\;<br />\nCall Jackie Kelly at&nbsp\;<a href="tel:(678)%20386-7580" style="color: rgb(17\, 85\, 204)\;" target="_blank">678-386-7580</a><br />\nOr Email:&nbsp\;<a href="mailto:skel621@aol.com" rel="noopener noreferrer" style="color: rgb(17\, 85\, 204)\;" target="_blank">skel621@aol.com</a></span></div>\n
LOCATION:Southern Heartland Art Gallery 1132 Monticello Street Covington\, GA 30014
UID:e.1627.4383
SEQUENCE:3
DTSTAMP:20260422T222632Z
URL:https://business.newtonchamber.com/events/details/beginner-sewing-classes-02-24-2018-4383
END:VEVENT

END:VCALENDAR
