BEGIN:VCALENDAR
VERSION:2.0
PRODID:-//ChamberMaster//Event Calendar 2.0//EN
METHOD:PUBLISH
X-PUBLISHED-TTL:P3D
REFRESH-INTERVAL:P3D
CALSCALE:GREGORIAN
BEGIN:VEVENT
DTSTART:20181213T230000Z
DTEND:20181214T010000Z
X-MICROSOFT-CDO-ALLDAYEVENT:FALSE
SUMMARY:Beauty Bar Med Spa Spa-li-day open house
DESCRIPTION:Spa-li-day Open House at Beauty Bar Med Spa! We will be having live drawings for free massage\, facial\, gift sets and gift certificates from other local businesses. Special pricing on prepaid services and gift certificates! Free oxygen lounge sessions and $15 Spa Bucks for the first 10 guests! Light refreshments will be provided.
X-ALT-DESC;FMTTYPE=text/html:Spa-li-day Open House at Beauty Bar Med Spa! We will be having live drawings for free massage\, facial\, gift sets and gift certificates from other local businesses. Special pricing on prepaid services and gift certificates! Free oxygen lounge sessions and $15 Spa Bucks for the first 10 guests! Light refreshments will be provided.
LOCATION:Beauty Bar Med Spa 1109 Floyd St Ne Covington Ga
UID:e.1627.6864
SEQUENCE:3
DTSTAMP:20260422T172959Z
URL:https://business.newtonchamber.com/events/details/beauty-bar-med-spa-spa-li-day-open-house-6864
END:VEVENT

END:VCALENDAR
