BEGIN:VCALENDAR
VERSION:2.0
PRODID:-//ChamberMaster//Event Calendar 2.0//EN
METHOD:PUBLISH
X-PUBLISHED-TTL:P3D
REFRESH-INTERVAL:P3D
CALSCALE:GREGORIAN
BEGIN:VEVENT
DTSTART:20241014T123000Z
DTEND:20241014T133000Z
X-MICROSOFT-CDO-ALLDAYEVENT:FALSE
SUMMARY:BCN
DESCRIPTION:
X-ALT-DESC;FMTTYPE=text/html:
LOCATION:The Business Connection Networking leads group meets at the Chamber Meeting Room every other Monday at 8:30am. Contact Christine Kelley\, christinekelley5@gmail.com or (586) 381-3019\, if you are interested in joining the group!
UID:e.1627.12781
SEQUENCE:3
DTSTAMP:20260419T141612Z
URL:https://business.newtonchamber.com/events/details/bcn-10-14-2024-12781
END:VEVENT

END:VCALENDAR
