BEGIN:VCALENDAR
VERSION:2.0
PRODID:-//ChamberMaster//Event Calendar 2.0//EN
METHOD:PUBLISH
X-PUBLISHED-TTL:P3D
REFRESH-INTERVAL:P3D
CALSCALE:GREGORIAN
BEGIN:VEVENT
DTSTART:20190209T153000Z
DTEND:20190209T183000Z
X-MICROSOFT-CDO-ALLDAYEVENT:FALSE
SUMMARY:BB&T Home Buyer Seminar
DESCRIPTION:Free home buyer seminar.  Refreshments provided and gift cards raffled!  Get prequalified to purchase a home.  Learn about the home buying process step-by-step\, find available grant monies and down payment assistance.  Connect with a local real estate agent and home inspector.  Be prepared.  Ask questions!
X-ALT-DESC;FMTTYPE=text/html:<p>Free home buyer seminar.&nbsp\; Refreshments provided and gift cards raffled!&nbsp\; Get prequalified to purchase a home.&nbsp\; Learn about the home buying process step-by-step\, find available grant monies and down payment assistance.&nbsp\; Connect with a local real estate agent and home inspector.&nbsp\; Be prepared.&nbsp\; Ask questions!</p>\n
LOCATION:3525 Highway 81\, Loganville\, GA 30052
UID:e.1627.6894
SEQUENCE:3
DTSTAMP:20260422T152230Z
URL:https://business.newtonchamber.com/events/details/bb-t-home-buyer-seminar-6894
END:VEVENT

END:VCALENDAR
