BEGIN:VCALENDAR
VERSION:2.0
PRODID:-//ChamberMaster//Event Calendar 2.0//EN
METHOD:PUBLISH
X-PUBLISHED-TTL:P3D
REFRESH-INTERVAL:P3D
CALSCALE:GREGORIAN
BEGIN:VEVENT
DTSTART:20140322T140000Z
DTEND:20140322T180000Z
X-MICROSOFT-CDO-ALLDAYEVENT:FALSE
SUMMARY:Bark For Life
DESCRIPTION:Join the Humane Society of Morgan County and Morgan County Relay for Life in a life saving event to help put an end to cancer.  The event features our four legged friends that serve as caregivers to people battling this terrible disease.  Dogs are welcome with a registration fee and will be featured in contests such best dressed\, dressed like owner\, best trick\, and more.  Food\, fun\, music and animal demostrations throughout the day.  Event T-shirts are available through March 12th at the HSMC for just $10.  Together\, we can stamp out this terrible disease.
X-ALT-DESC;FMTTYPE=text/html:Join the Humane Society of Morgan County and Morgan County Relay for Life in a life saving event to help put an end to cancer.&nbsp\; The event features our four legged friends that serve as caregivers to people battling this terrible disease.&nbsp\; Dogs are welcome with a registration fee and will be featured in contests such best dressed\, dressed like owner\, best trick\, and more.&nbsp\; Food\, fun\, music and animal demostrations throughout the day.&nbsp\; Event T-shirts are available through March 12th at the HSMC for just $10.&nbsp\; Together\, we can stamp out this terrible disease.
LOCATION:Heritage Park in Madison GA 30650
UID:e.1627.97
SEQUENCE:3
DTSTAMP:20260421T115250Z
URL:https://business.newtonchamber.com/events/details/bark-for-life-03-22-2014-97
END:VEVENT

END:VCALENDAR
