BEGIN:VCALENDAR
VERSION:2.0
PRODID:-//ChamberMaster//Event Calendar 2.0//EN
METHOD:PUBLISH
X-PUBLISHED-TTL:P3D
REFRESH-INTERVAL:P3D
CALSCALE:GREGORIAN
BEGIN:VEVENT
DTSTART:20170627T123000Z
DTEND:20170627T133000Z
X-MICROSOFT-CDO-ALLDAYEVENT:FALSE
SUMMARY:B2B Networking & Leads Group
DESCRIPTION:Networking/Leads Group w/ sponsored breakfast.
X-ALT-DESC;FMTTYPE=text/html:Networking/Leads Group w/ sponsored breakfast.
LOCATION:The Center 2104 Washington Street Covington\, GA 30014 (Located beside the Chamber.)
UID:e.1627.3704
SEQUENCE:3
DTSTAMP:20260422T103108Z
URL:https://business.newtonchamber.com/events/details/b2b-networking-leads-group-06-27-2017-3704
END:VEVENT

END:VCALENDAR
