BEGIN:VCALENDAR
VERSION:2.0
PRODID:-//ChamberMaster//Event Calendar 2.0//EN
METHOD:PUBLISH
X-PUBLISHED-TTL:P3D
REFRESH-INTERVAL:P3D
CALSCALE:GREGORIAN
BEGIN:VEVENT
DTSTART:20180313T220000Z
DTEND:20180313T230000Z
X-MICROSOFT-CDO-ALLDAYEVENT:FALSE
SUMMARY:Atlanta Theatre-To-Go Presents "That's Life"
DESCRIPTION:"That's Life"\n\n\n\nThree short plays featuring Atlanta Theatre-To-Go actors in multiple roles!  This show will leave you chucking\, relating\, cheering\, and applauding this extraordinary adventure we call "LIFE"
X-ALT-DESC;FMTTYPE=text/html:&quot\;That&#39\;s Life&quot\;<br />\n<br />\nThree short plays featuring Atlanta Theatre-To-Go actors in multiple roles!&nbsp\; This show will leave you chucking\, relating\, cheering\, and applauding this extraordinary adventure we call &quot\;LIFE&quot\;
LOCATION:Benton House of Covington 7155 Dearing Road Covington\, GA 30014
UID:e.1627.4392
SEQUENCE:3
DTSTAMP:20260423T002008Z
URL:https://business.newtonchamber.com/events/details/atlanta-theatre-to-go-presents-that-s-life-4392
END:VEVENT

END:VCALENDAR
