BEGIN:VCALENDAR
VERSION:2.0
PRODID:-//ChamberMaster//Event Calendar 2.0//EN
METHOD:PUBLISH
X-PUBLISHED-TTL:P3D
REFRESH-INTERVAL:P3D
CALSCALE:GREGORIAN
BEGIN:VEVENT
DTSTART:20200516T110000Z
DTEND:20200516T200000Z
X-MICROSOFT-CDO-ALLDAYEVENT:FALSE
SUMMARY:American Diabetes Association's Tour de Cure Atlanta 2020
DESCRIPTION:OUR EVERYDAY REALITY\n\nOver 1.11 million Georgians are living with diabetes\, 2.59 million people are living with prediabetes and 90% don't even know it\, and every 21 seconds someone in the U.S. is diagnosed with diabetes.\n\nThis isn't a problem. It's an EPIDEMIC.\n\nWe are committed for life to helping those living with this disease thrive. We need you to join us to drive change and make a big impact for our diabetes community. We can't do this alone.\n\n \n\nJOIN THE MOVEMENT TO IMPROVE THE LIVES OF ALL PEOPLE AFFECTED BY DIABETES AT TOUR DE CURE !\n\nTour de Cure is the premiere fundraising event for the American Diabetes Association . \n\nAt Tour de Cure you\, your friends\, co-workers\, and family can ride\, run\, or walk to end diabetes!\n\n \n\nMANY ROADS. ONE PURPOSE.\n\nJoin the American Diabetes Association  at the 2020 Tour de Cure: Atlanta  for a powerful and inspirational daythat's perfect for the whole family or a company looking to engage with their employees in a meaningful way.\n\nThe Tour de Cure is an opportunity to recognize our participants with diabetes and Champion fundraisers who are committed to ADA's mission. Every mile covered and every dollar raised brings us that much closer to a cure.\n\nWe value everyone in our community that want to take part in the event\, which is why we offer ride\, run\, and walk route options for people of all abilities. Tour de Cure features well-marked cycling and walk/run routes\, with safety marshals\, safety vehicles and fully stocked rest stops to fuel your journey! Registered participants will enjoy lunch\, diabetes resources\, family activities\, music and so much more when you reach the end of your event route.\n\n\n\n\n\nTour de Cure Features:\n\nCycling\n\n5k Walk\n\n5k Run\n\nLive Music\n\nWellness Village\n\nScreenings\n\nKids Zone\n\nAnd so much more!
X-ALT-DESC;FMTTYPE=text/html:<p>OUR EVERYDAY REALITY</p>\n\n<p>Over 1.11 million Georgians are living with diabetes\, 2.59 million people are living with prediabetes and 90% don&rsquo\;t even know it\, and every 21 seconds someone in the U.S. is diagnosed with diabetes.</p>\n\n<p>This isn&rsquo\;t a problem. It&rsquo\;s an EPIDEMIC.</p>\n\n<p>We are committed for life to helping those living with this disease thrive. We need you to join us to drive change and make a big impact for our diabetes community. We can&rsquo\;t do this alone.</p>\n\n<p>&nbsp\;</p>\n\n<p><strong>JOIN THE MOVEMENT TO IMPROVE THE LIVES OF ALL PEOPLE AFFECTED BY DIABETES AT TOUR DE CURE&reg\;!</strong></p>\n\n<p>Tour de Cure is the&nbsp\;<strong>premiere fundraising event</strong>&nbsp\;for the American Diabetes Association&reg\;.&nbsp\;</p>\n\n<p>At Tour de Cure you\, your friends\, co-workers\, and family can&nbsp\;<strong>ride\, run\, or walk to end diabetes!</strong><br />\n&nbsp\;</p>\n\n<p><span style="color:rgb(195\, 19\, 49)\; font-size:12pt"><strong>MANY ROADS. ONE PURPOSE.</strong></span></p>\n\n<p>Join the American Diabetes Association&reg\; at the 2020 Tour de Cure: Atlanta&reg\; for&nbsp\;<strong>a powerful and inspirational day</strong>that&#39\;s perfect for the whole family or a company looking to engage with their employees in a meaningful way.</p>\n\n<p>The Tour de Cure is an opportunity to recognize&nbsp\;<strong>our participants with diabetes and Champion fundraisers&nbsp\;</strong>who are committed to ADA&#39\;s mission. Every mile covered and every dollar raised brings us that much closer to a cure.</p>\n\n<p>We value&nbsp\;<strong>everyone in our community that want to take part in the event\,</strong>&nbsp\;which is why we offer&nbsp\;<strong>ride\, run\, and walk route options&nbsp\;</strong>for people of all abilities. Tour de Cure features well-marked cycling and walk/run routes\, with safety marshals\, safety vehicles and fully stocked rest stops to fuel your journey! Registered participants will enjoy lunch\, diabetes resources\, family activities\, music and so much more when you reach the end of your event route.</p>\n\n<p><br />\n<br />\n<strong>Tour de Cure Features:<br />\nCycling<br />\n5k Walk<br />\n5k Run<br />\nLive Music<br />\nWellness Village<br />\nScreenings<br />\nKids Zone<br />\nAnd so much more!&nbsp\;</strong></p>\n
LOCATION:Oxford College of Emory University
UID:e.1627.8042
SEQUENCE:3
DTSTAMP:20260420T061241Z
URL:https://business.newtonchamber.com/events/details/american-diabetes-association-s-tour-de-cure-atlanta-2020-8042
END:VEVENT

END:VCALENDAR
