BEGIN:VCALENDAR
VERSION:2.0
PRODID:-//ChamberMaster//Event Calendar 2.0//EN
METHOD:PUBLISH
X-PUBLISHED-TTL:P3D
REFRESH-INTERVAL:P3D
CALSCALE:GREGORIAN
BEGIN:VEVENT
DTSTART:20181210T233000Z
DTEND:20181211T003000Z
X-MICROSOFT-CDO-ALLDAYEVENT:FALSE
SUMMARY:Alzheimer's & Dementia Support Group
DESCRIPTION:Please join us for a supportive and educational gathering for families and friends whose lives have been impacted by Alzheimer's or dementia. \n\n\n\nJoin Kristi Carter\, LPN from Longleaf Hospice\, as they help empower caregivers to cope with challenges.  \n\n\n\nRefreshments served. Kindly RSVP: 770-788-6660
X-ALT-DESC;FMTTYPE=text/html:Please join us for a supportive and educational gathering for families and friends whose lives have been impacted by Alzheimer&#39\;s or dementia.&nbsp\;<br />\n<br />\nJoin Kristi Carter\, LPN from Longleaf Hospice\, as they help empower caregivers to cope with challenges. &nbsp\;<br />\n<br />\nRefreshments served. Kindly RSVP: 770-788-6660
LOCATION:Benton House of Covington 7155 Dearing Road Covington\, GA 30014
UID:e.1627.6697
SEQUENCE:3
DTSTAMP:20260422T172724Z
URL:https://business.newtonchamber.com/events/details/alzheimer-s-dementia-support-group-12-10-2018-6697
END:VEVENT

END:VCALENDAR
