BEGIN:VCALENDAR
VERSION:2.0
PRODID:-//ChamberMaster//Event Calendar 2.0//EN
METHOD:PUBLISH
X-PUBLISHED-TTL:P3D
REFRESH-INTERVAL:P3D
CALSCALE:GREGORIAN
BEGIN:VEVENT
DTSTART:20161027T200000Z
DTEND:20161027T203000Z
X-MICROSOFT-CDO-ALLDAYEVENT:FALSE
SUMMARY:All Body Care ~~RIBBON CUTTING~~
DESCRIPTION:RIBBON CUTTING~~All Body Care
X-ALT-DESC;FMTTYPE=text/html:RIBBON CUTTING~~All Body Care&nbsp\;&nbsp\;&nbsp\;&nbsp\;
LOCATION:All Body Care 10277 Industrial Blvd. Covington\, GA 30014 (678) 712-9667
UID:e.1627.3686
SEQUENCE:3
DTSTAMP:20260421T223709Z
URL:https://business.newtonchamber.com/events/details/all-body-care-ribbon-cutting-3686
END:VEVENT

END:VCALENDAR
