BEGIN:VCALENDAR
VERSION:2.0
PRODID:-//ChamberMaster//Event Calendar 2.0//EN
METHOD:PUBLISH
X-PUBLISHED-TTL:P3D
REFRESH-INTERVAL:P3D
CALSCALE:GREGORIAN
BEGIN:VEVENT
DTSTART:20160402T130000Z
DTEND:20160402T153000Z
X-MICROSOFT-CDO-ALLDAYEVENT:FALSE
SUMMARY:A Walk Down Memory Lane
DESCRIPTION:Abbey Hospice Foundation is proud to present ?A Walk Down Memory Lane\,? an annual memorial walk through downtown Social Circle. This short walk is a great way to remember your loved one and take a step towards healing. There will be a leisurely 2-mile walk with memory activities\, with a shorter walk available for those who prefer that option.
X-ALT-DESC;FMTTYPE=text/html:Abbey Hospice Foundation is proud to present ?A Walk Down Memory Lane\,? an annual memorial walk through downtown Social Circle. This short walk is a great way to remember your loved one and take a step towards healing. There will be a leisurely 2-mile walk with memory activities\, with a shorter walk available for those who prefer that option.
LOCATION:. The walk begins at Social Circle Elementary School\, located at 240 Hightower Trail\, Social Circle GA 30025
UID:e.1627.1703
SEQUENCE:3
DTSTAMP:20260421T134013Z
URL:https://business.newtonchamber.com/events/details/a-walk-down-memory-lane-04-02-2016-1703
END:VEVENT

END:VCALENDAR
