BEGIN:VCALENDAR
VERSION:2.0
PRODID:-//ChamberMaster//Event Calendar 2.0//EN
METHOD:PUBLISH
X-PUBLISHED-TTL:P3D
REFRESH-INTERVAL:P3D
CALSCALE:GREGORIAN
BEGIN:VEVENT
DTSTART:20190123T003000Z
DTEND:20190123T020000Z
X-MICROSOFT-CDO-ALLDAYEVENT:FALSE
SUMMARY:"A Celebration of the Life of Martin Luther King\, Jr."
DESCRIPTION:Join the Oxford College community for a celebration of the life and legacy of Martin Luther King Jr. This event takes a look at his written words in "The King Letters: A Retrospective." Three keynote speakers Gregory Ellison\, Julian Reid\, and Tavares Stephens will collectively discuss King's writing. The event also features performances by Oxappella\, the MLK Interdenominational Choir\, and Voices of Praise gospel choir as well as readings by Oxford students. \n\nThe presidents of Oxford's Student Government Association and Black Student Alliance will welcome attendees and introduce the keynote speakers with Oxford Chaplain Lyn Pace and Dean Douglas Hicks giving the opening and closing remarks.
X-ALT-DESC;FMTTYPE=text/html:<p>Join the Oxford College community for a celebration of the life and legacy of Martin Luther King Jr. This event takes a look at his written words in &ldquo\;The King Letters: A Retrospective.&quot\; Three keynote speakers Gregory Ellison\, Julian Reid\, and Tavares Stephens will collectively discuss King&#39\;s writing. The event also features performances by Oxappella\, the MLK Interdenominational Choir\, and Voices of Praise gospel choir as well as readings by Oxford students.&nbsp\;</p>\n\n<p>The presidents of Oxford&#39\;s Student Government Association and Black Student Alliance will welcome attendees and introduce the keynote speakers with Oxford Chaplain Lyn Pace and Dean Douglas Hicks giving the opening and closing remarks.</p>\n
LOCATION:Old Church\, Oxford\, Georgia
UID:e.1627.6881
SEQUENCE:3
DTSTAMP:20260422T170048Z
URL:https://business.newtonchamber.com/events/details/a-celebration-of-the-life-of-martin-luther-king-jr-6881
END:VEVENT

END:VCALENDAR
