BEGIN:VCALENDAR
VERSION:2.0
PRODID:-//ChamberMaster//Event Calendar 2.0//EN
METHOD:PUBLISH
X-PUBLISHED-TTL:P3D
REFRESH-INTERVAL:P3D
CALSCALE:GREGORIAN
BEGIN:VEVENT
DTSTART:20161211T180000Z
DTEND:20161211T210000Z
X-MICROSOFT-CDO-ALLDAYEVENT:FALSE
SUMMARY:8th Annual Tuba Christmas in Porterdale
DESCRIPTION:The Village of Porterdale hosts the 8th Annual Tuba Christmas. Participants register at between 1pm-2pm\, Rehearsal at 2pm. Performance at 3pm. Audience members are encouraged to bring lawn chairs.
X-ALT-DESC;FMTTYPE=text/html:The Village of Porterdale hosts the 8th Annual Tuba Christmas. Participants register at between 1pm-2pm\, Rehearsal at 2pm. Performance at 3pm. Audience members are encouraged to bring lawn chairs.
LOCATION:Porter Memorial Gym - 2400 Main St\, Porterdale\, 30070
UID:e.1627.3714
SEQUENCE:3
DTSTAMP:20260422T012216Z
URL:https://business.newtonchamber.com/events/details/8th-annual-tuba-christmas-in-porterdale-3714
END:VEVENT

END:VCALENDAR
