BEGIN:VCALENDAR
VERSION:2.0
PRODID:-//ChamberMaster//Event Calendar 2.0//EN
METHOD:PUBLISH
X-PUBLISHED-TTL:P3D
REFRESH-INTERVAL:P3D
CALSCALE:GREGORIAN
BEGIN:VEVENT
DTSTART:20160930T200000Z
DTEND:20161003T020000Z
X-MICROSOFT-CDO-ALLDAYEVENT:FALSE
SUMMARY:4-H Night at Mitcham Farm
DESCRIPTION:Come visit our Corn Maze & Pumpkin Patch as we celebrate 4-H! All 4-H members receive $2 OFF admission with proof of club membership. 4-H members are also invited to display their projects for the evening. If you plan to set up a display\, please fill out our event Participiation Form here:www.mitchamfarm.com/event-participation-form.php\n\n\n\nCome enjoy a day of fun on the farm and show your support of 4-H clubs and members! We're got activities for all ages including our giant corn maze and maze games\, pumpkin patch\, hayrides\, jumbo pillow jumper\, corn cannon\, pedal carts\, cow train\, play area\, pony rides\, mechanical bull rides\, concessions\, farm stand (featuring fall d cor\, produce\, and specialty food items)\, and more. \n\n\n\nSPECIAL EVENT HIGHLIGHT: Music by DJ T. Rumble\n\n\n\nMitcham Farm is a family owned and operated farm offering "Real Farm\, Real Food\, and Real FUN!" The farm is located just 30 miles east of downtown Atlanta\, less than 5 miles from Interstate 20. \n\n\n\n4-H is delivered by Cooperative Extension a community of more than 100 public universities across the nation that provides experiences where young people learn by doing. Kids complete hands-on projects in areas like health\, science\, agriculture and citizenship\, in a positive environment where they receive guidance from adult mentors and are encouraged to take on proactive leadership roles. Kids experience 4 H in every county and parish in the country through in-school and after-school programs\, school and community clubs and 4 H camps.\n\n\n\nLEARN MORE: www.mitchamfarm.com
X-ALT-DESC;FMTTYPE=text/html:<p><span style="color:rgb(75\, 79\, 86)\; font-family:helvetica\,arial\,sans-serif\; font-size:14px">Come visit our Corn Maze &amp\; Pumpkin Patch as we celebrate 4-H! All 4-H members receive $2 OFF admission with proof of club membership. 4-H members are also invited to display their projects for the evening. If you plan to set up a display\, please fill out our event Participiation Form here:</span><a href="http://www.mitchamfarm.com/event-participation-form.php" rel="nofollow nofollow" style="color: rgb(54\, 88\, 153)\; cursor: pointer\; text-decoration: none\; font-family: helvetica\, arial\, sans-serif\; font-size: 14px\;" target="_blank"><span style="font-family:inherit">www.mitchamfarm.com/</span><span style="font-family:inherit">event-participation-form.ph</span>p</a><br />\n<br />\n<span style="color:rgb(75\, 79\, 86)\; font-family:helvetica\,arial\,sans-serif\; font-size:14px">Come enjoy a day of fun on the farm and show your support of 4-H clubs and members! We&#39\;re got activities for all ages including our giant corn maze and maze games\, pumpkin patch\, hayrides\, jumbo pillow jumper\, corn cannon\, pedal carts\, cow train\, play area\, pony rides\, mechanical bull rides\, concessions\, farm stand (featuring fall d&eacute\;cor\, produce\, and specialty food items)\, and&nbsp\;more.&nbsp\;<br />\n<br />\nSPECIAL EVENT HIGHLIGHT: Music by DJ T. Rumble<br />\n<br />\nMitcham Farm is a family owned and operated farm offering &ldquo\;Real Farm\, Real Food\, and Real FUN!&rdquo\; The farm is located just 30 miles east of downtown Atlanta\, less than 5 miles from Interstate 20.&nbsp\;</span><br />\n<br />\n<span style="color:rgb(75\, 79\, 86)\; font-family:helvetica\,arial\,sans-serif\; font-size:14px">4-H is delivered by Cooperative Extension&mdash\;a community of more than 100 public universities across the nation that provides experiences where young people learn by doing. Kids complete hands-on projects in areas like health\, science\, agriculture and citizenship\, in a positive environment where they receive guidance from adult mentors and are encouraged to take on proactive leadership roles. Kids experience 4 H in every county and parish in the country&mdash\;through in-school and after-school programs\, school and community clubs and 4 H camps.</span><br />\n<br />\n<span style="color:rgb(75\, 79\, 86)\; font-family:helvetica\,arial\,sans-serif\; font-size:14px">LEARN MORE:&nbsp\;</span><a href="http://www.mitchamfarm.com/" rel="nofollow nofollow" style="color: rgb(54\, 88\, 153)\; cursor: pointer\; text-decoration: none\; font-family: helvetica\, arial\, sans-serif\; font-size: 14px\;" target="_blank">www.mitchamfarm.com</a><br />\n&nbsp\;</p>\n
LOCATION:Colonel Cob's Corn Maze & Pumpkin Patch at Mitcham Farm 797 Macedonia Church Road Oxford\, Georgia 30054
UID:e.1627.3078
SEQUENCE:3
DTSTAMP:20260421T223437Z
URL:https://business.newtonchamber.com/events/details/4-h-night-at-mitcham-farm-3078
END:VEVENT

END:VCALENDAR
