BEGIN:VCALENDAR
VERSION:2.0
PRODID:-//ChamberMaster//Event Calendar 2.0//EN
METHOD:PUBLISH
X-PUBLISHED-TTL:P3D
REFRESH-INTERVAL:P3D
CALSCALE:GREGORIAN
BEGIN:VEVENT
DTSTART:20160430T120000Z
DTEND:20160430T180000Z
X-MICROSOFT-CDO-ALLDAYEVENT:FALSE
SUMMARY:30th Annual Hornyhead Fish Festival and Tournament with Parade
DESCRIPTION:April 30\, 2016 is the 30th annual Hornyhead Fish Festival and Tournament in Newborn\, GA!  It is a fun and free familly event.\n \n\n8 am: vendor booths and children's activities open and fishing registration begins\, with 3 age groups (kids\, youth\, and adult)\n\n10 am: music starts up.  Bands include the Now and Then Band and The Maloy Brothers\n\nNoon: Hornyhead Queen is crowned\, fishing tournament complete\n\n12:30: Fishing tournament winners announced!\n\n1 pm: Parade commences\, Grand Co-Marshalls O'Neill Williams and Travis Johnson of Oneilloutside.com\, WSB Radio\, Fox and more.  \n\n2 pm: Festival concludes\n\nApplications for booths\, fishing information and parade group registrations may be found at www.newbornschoolhouse.org.  Check back for updates\, parade route\, and more and follow us on Facebook at Historic Newborn Schoolhouse.\n\n \n\nPS - what is a hornyhead?  It is a little fish (winners are often under 10 inches!) with bumps or horns on its head.  It is just a little fish but it is found in many of our local streams and creeks\, is fun for young and old to catch\, and is an appropriate honoree for Newborn\, "A Town With Characters."  The Hornyhead Festival raises funds for the preservation of the Historic Newborn Schoolhouse\, a 1924 school building and community center on Hwy 142 in Newborn.
X-ALT-DESC;FMTTYPE=text/html:<div>April 30\, 2016 is the 30th annual Hornyhead Fish Festival and Tournament in Newborn\, GA! &nbsp\;It is a fun and free familly event.</div>\n&nbsp\;\n\n<div>8 am: vendor booths and children&#39\;s activities open and fishing registration begins\, with 3 age groups (kids\, youth\, and adult)</div>\n\n<div>10 am: music starts up. &nbsp\;Bands include the Now and Then Band and The Maloy Brothers</div>\n\n<div>Noon: Hornyhead Queen is crowned\, fishing tournament complete</div>\n\n<div>12:30: Fishing tournament winners announced!</div>\n\n<div>1 pm: Parade commences\, Grand Co-Marshalls O&#39\;Neill Williams and Travis Johnson of <a href="http://oneilloutside.com/" id="yui_3_16_0_1_1457115647337_2004" rel="nofollow" target="_blank">Oneilloutside.com</a>\, WSB Radio\, Fox and more. &nbsp\;</div>\n\n<div>2 pm: Festival concludes</div>\n\n<div>Applications for booths\, fishing information and parade group registrations may be found at <a href="http://www.newbornschoolhouse.org/" rel="nofollow" target="_blank">www.newbornschoolhouse.org</a>. &nbsp\;Check back for updates\, parade route\, and more and follow us on Facebook at Historic Newborn Schoolhouse.</div>\n\n<div>&nbsp\;</div>\n\n<div>PS - what is a hornyhead? &nbsp\;It is a little fish (winners are often under 10 inches!) with bumps or horns on its head. &nbsp\;It is just a little fish but it is found in many of our local streams and creeks\, is fun for young and old to catch\, and is an appropriate honoree for Newborn\, &quot\;A Town With Characters.&quot\; &nbsp\;The Hornyhead Festival raises funds for the preservation of the Historic Newborn Schoolhouse\, a 1924 school building and community center on Hwy 142 in Newborn.</div>\n
LOCATION:4326 Highway 142\, Newborn\, GA 30056
UID:e.1627.1699
SEQUENCE:3
DTSTAMP:20260421T134432Z
URL:https://business.newtonchamber.com/events/details/30th-annual-hornyhead-fish-festival-and-tournament-with-parade-04-30-2016-1699
END:VEVENT

END:VCALENDAR
