BEGIN:VCALENDAR
VERSION:2.0
PRODID:-//ChamberMaster//Event Calendar 2.0//EN
METHOD:PUBLISH
X-PUBLISHED-TTL:P3D
REFRESH-INTERVAL:P3D
CALSCALE:GREGORIAN
BEGIN:VEVENT
DTSTART:20131214T200000Z
DTEND:20131214T220000Z
X-MICROSOFT-CDO-ALLDAYEVENT:FALSE
SUMMARY:2nd Annual Pajamma Jammie Jam
DESCRIPTION:Come Join Fit & Sassy Fitness in Celebrating of the Holiday season wearing your most festive outfit/ holiday pajammas donations to be made to local organizations to aid those in need in our communitie\, Please bring an unwrapped toy or $2 as the pricf admission on 12/14/2013 at 3pm. Zumba\, refreshments. FAMILY FRIENDLY EVENT
X-ALT-DESC;FMTTYPE=text/html:Come Join Fit &amp\; Sassy Fitness in Celebrating of the Holiday season wearing your most festive outfit/ holiday pajammas donations to be made to local organizations to aid those in need in our communitie\, Please bring an unwrapped toy or $2 as the pricf admission on 12/14/2013 at 3pm. Zumba\, refreshments. FAMILY FRIENDLY EVENT
LOCATION:Fit & Sassy Fitness Studio 8108 Washington Street Covington\, GA 30014
UID:e.1627.90
SEQUENCE:3
DTSTAMP:20260419T183819Z
URL:https://business.newtonchamber.com/events/details/2nd-annual-pajamma-jammie-jam-12-14-2013-90
END:VEVENT

END:VCALENDAR
