BEGIN:VCALENDAR
VERSION:2.0
PRODID:-//ChamberMaster//Event Calendar 2.0//EN
METHOD:PUBLISH
X-PUBLISHED-TTL:P3D
REFRESH-INTERVAL:P3D
CALSCALE:GREGORIAN
BEGIN:VEVENT
DTSTART:20190518T140000Z
DTEND:20190518T190000Z
X-MICROSOFT-CDO-ALLDAYEVENT:FALSE
SUMMARY:2nd Annual Bed Race
DESCRIPTION:We are looking for people who would like to participate! Teams need five people   four to push the bed\, and one person who weighs at least 100 pounds to ride on the bed during the race. Teams race their decorated beds in two heats between 150-220 yards at Falcons Fury Harley Davidson.\n\n \n\nIf you are able to Volunteer please contact us @ info@familypromiseofnewrock.org \n\nOr attend our weekly Bed Race Planning meeting at Farmers Insurance on Thursdays at 6:00 PM\n\n \n\nYou can contribute by sponsoring the Bed Race on May 18\, 2019. This brings attention to your business during a community event that draws people to Falcons Fury Harley Davidson for a fun- filled Saturday Afternoon.\n\nYou can become a Family Promise Partner by sponsoring both the Bed Race and the Building Roads of Promise Dinner and Auction in September.
X-ALT-DESC;FMTTYPE=text/html:<h1 style="text-align:center"><span style="font-family:arial\,helvetica\,sans-serif">We are looking for people who would like to participate!&nbsp\;Teams&nbsp\;need&nbsp\;five&nbsp\;people &ndash\; four to push the bed\, and one person who weighs at least 100 pounds to ride on the bed during the race. Teams race their decorated beds in two heats between 150-220 yards at Falcons Fury Harley Davidson.</span></h1>\n\n<h1>&nbsp\;</h1>\n\n<h1 style="text-align:center"><span style="font-family:arial\,helvetica\,sans-serif">If you are able to Volunteer please contact us @&nbsp\;<a href="https://www.familypromiseofnewrock.org/bed-race-2019/info@familypromiseofnewrock.org" style="box-sizing: border-box\; margin: 0px\; padding: 0px\; border: 0px\; outline: 0px\; font-variant-ligatures: inherit\; font-variant-position: inherit\; font-variant-caps: inherit\; font-variant-numeric: inherit\; font-variant-alternates: inherit\; font-variant-east-asian: inherit\; font-stretch: inherit\; line-height: inherit\; vertical-align: baseline\; font-family: inherit\; font-style: inherit\; font-weight: inherit\; background-color: transparent\; color: rgb(30\, 115\, 190)\; text-decoration: none\; transition: all 0.3s ease 0s\; box-shadow: none\;">info@familypromiseofnewrock.org&nbsp\;</a></span></h1>\n\n<h1 style="text-align:center"><span style="font-family:arial\,helvetica\,sans-serif">Or attend our weekly Bed Race Planning meeting at Farmers Insurance on Thursdays at 6:00 PM</span></h1>\n\n<h1>&nbsp\;</h1>\n\n<h1 style="text-align:center"><span style="font-family:arial\,helvetica\,sans-serif">You can contribute by sponsoring the Bed Race on May 18\, 2019. This brings attention to your business during a community event that draws people to Falcons Fury Harley Davidson for a fun- filled Saturday Afternoon.<br />\nYou can become a Family Promise Partner by sponsoring both the Bed Race and the Building Roads of Promise Dinner and Auction in September.</span></h1>\n
LOCATION:900 Dogwood Dr\, Conyers\, GA 30012
UID:e.1627.7220
SEQUENCE:3
DTSTAMP:20260422T094729Z
URL:https://business.newtonchamber.com/events/details/2nd-annual-bed-race-7220
END:VEVENT

END:VCALENDAR
