BEGIN:VCALENDAR
VERSION:2.0
PRODID:-//ChamberMaster//Event Calendar 2.0//EN
METHOD:PUBLISH
X-PUBLISHED-TTL:P3D
REFRESH-INTERVAL:P3D
CALSCALE:GREGORIAN
BEGIN:VEVENT
DTSTART:20171007T160000Z
DTEND:20171008T000000Z
X-MICROSOFT-CDO-ALLDAYEVENT:FALSE
SUMMARY:2017 Yellow River Jam
DESCRIPTION:The 2017 Yellow River Jam is day of Boats\, Brews and Bands. Enjoy the Makers Market\, Food Trucks and the Family Fun Zone. Shade is limited on the site\, feel free to bring your pop up tnet (please make sure it can be adequately secured). Bring chairs\, the family dog (leashed)\, your friends and family and settle in for great day of fun and entertainment on the Yellow River. All proceeds go to enhancing access and programming by the Yellow River Water Trail Group.
X-ALT-DESC;FMTTYPE=text/html:The 2017 Yellow River Jam is day of Boats\, Brews and Bands. Enjoy the Makers Market\, Food Trucks and the Family Fun Zone. Shade is limited on the site\, feel free to bring your pop up tnet (please make sure it can be adequately secured). Bring chairs\, the family dog (leashed)\, your friends and family and settle in for great day of fun and entertainment on the Yellow River. All proceeds go to enhancing access and programming by the Yellow River Water Trail Group.
LOCATION:Yellow River Park\, Porterdale GA 30014
UID:e.1627.3935
SEQUENCE:3
DTSTAMP:20260422T155626Z
URL:https://business.newtonchamber.com/events/details/2017-yellow-river-jam-3935
END:VEVENT

END:VCALENDAR
