BEGIN:VCALENDAR
VERSION:2.0
PRODID:-//ChamberMaster//Event Calendar 2.0//EN
METHOD:PUBLISH
X-PUBLISHED-TTL:P3D
REFRESH-INTERVAL:P3D
CALSCALE:GREGORIAN
BEGIN:VEVENT
DTSTART:20170302T160000Z
DTEND:20170302T180000Z
X-MICROSOFT-CDO-ALLDAYEVENT:FALSE
SUMMARY:2017 Women's Expo
DESCRIPTION:2017 Women's Expo\n\n\n\nLiving a life of unlimited possibilities with Andrea Bowens-Jones\n\n\n\n$15 includes lunch and there are only 75 seats available!
X-ALT-DESC;FMTTYPE=text/html:<span style="font-size:16px\;"><span style="font-size:18px\;">2017 Women&#39\;s Expo</span></span><br />\n<br />\n<i style="margin: 0px\; padding: 0px\; border: 0px\; font-variant-numeric: inherit\; font-stretch: inherit\; line-height: inherit\; font-family: Arial\, Helvetica\, sans-serif\; vertical-align: baseline\;"><font color="#666666" size="3" style="border: 1pt none windowtext\; padding: 0in\;"><b style="margin: 0px\; padding: 0px\; border: 0px\; font-style: inherit\; font-variant: inherit\; font-stretch: inherit\; font-size: inherit\; line-height: inherit\; font-family: inherit\; vertical-align: baseline\;">Living a life of unlimited possibilities</b></font></i><font color="#666666" style="font-family: Arial\, Helvetica\, sans-serif\;">&nbsp\;<font size="3">with Andrea Bowens-Jones</font></font><br />\n<br />\n<font color="#666666" style="font-family: Arial\, Helvetica\, sans-serif\;">$15 includes lunch and there are only 75 seats available!</font><br />\n&nbsp\;
LOCATION:First Baptist Covington 1135 Floyd Street Covington\, GA 30014
UID:e.1627.3742
SEQUENCE:3
DTSTAMP:20260422T061931Z
URL:https://business.newtonchamber.com/events/details/2017-women-s-expo-3742
END:VEVENT

END:VCALENDAR
