BEGIN:VCALENDAR
VERSION:2.0
PRODID:-//ChamberMaster//Event Calendar 2.0//EN
METHOD:PUBLISH
X-PUBLISHED-TTL:P3D
REFRESH-INTERVAL:P3D
CALSCALE:GREGORIAN
BEGIN:VEVENT
DTSTART:20170413T133000Z
DTEND:20170413T200000Z
X-MICROSOFT-CDO-ALLDAYEVENT:FALSE
SUMMARY:2017 Golf Tournament
DESCRIPTION:2017 Chamber of Commerce Golf Tournament
X-ALT-DESC;FMTTYPE=text/html:<span style="font-size:16px\;">2017 Chamber of Commerce Golf Tournament</span>
LOCATION:Ashton Hills Golf Course 10400 Bypass Road Covington\, GA 30014
UID:e.1627.3743
SEQUENCE:3
DTSTAMP:20260422T073704Z
URL:https://business.newtonchamber.com/events/details/2017-golf-tournament-3743
END:VEVENT

END:VCALENDAR
