BEGIN:VCALENDAR
VERSION:2.0
PRODID:-//ChamberMaster//Event Calendar 2.0//EN
METHOD:PUBLISH
X-PUBLISHED-TTL:P3D
REFRESH-INTERVAL:P3D
CALSCALE:GREGORIAN
BEGIN:VEVENT
DTSTART;VALUE=DATE:20160411
DTEND;VALUE=DATE:20160412
TRANSP:TRANSPARENT
X-MICROSOFT-CDO-ALLDAYEVENT:TRUE
SUMMARY:2016 Fuzz Run Kick Off Luncheon
DESCRIPTION:Learn more about becoming a sponsor of the Covington Police Who Care (501C3) annual Fuzz Run 5K. For more information about attending this years luncheon\, email donna.barlow@covingtonpolice.com
X-ALT-DESC;FMTTYPE=text/html:Learn more about becoming a sponsor of the Covington Police Who Care (501C3) annual Fuzz Run 5K. For more information about attending this years luncheon\, email donna.barlow@covingtonpolice.com
LOCATION:
UID:e.1627.1700
SEQUENCE:3
DTSTAMP:20260421T134233Z
URL:https://business.newtonchamber.com/events/details/2016-fuzz-run-kick-off-luncheon-04-11-2016-1700
END:VEVENT

END:VCALENDAR
