BEGIN:VCALENDAR
VERSION:2.0
PRODID:-//ChamberMaster//Event Calendar 2.0//EN
METHOD:PUBLISH
X-PUBLISHED-TTL:P3D
REFRESH-INTERVAL:P3D
CALSCALE:GREGORIAN
BEGIN:VEVENT
DTSTART:20161001T120000Z
DTEND:20161001T170000Z
X-MICROSOFT-CDO-ALLDAYEVENT:FALSE
SUMMARY:1st Annual Yellow River Disc Golf Showdown Tournament
DESCRIPTION:72 Spots Avaialble for Players \n\nRegister at discgolfscence.com until day of tournament. On site registration at 8:00AM. $25.00 \n\nRegistration Fee - includes lunch & commemorative disc\n\n8\;15 AM Dedication of the Yellow River Disc Golf Course\n\n8:40 AM First Tee Time\n\n9:50 AM Approximate 2nd Tee Time\n\nTop 8 Players Receive Prize Money \n\n1st $170\, 2nd $100\, 3rd $75\, 4th $30\, 5th-8th $25
X-ALT-DESC;FMTTYPE=text/html:<p>72 Spots Avaialble for Players&nbsp\;</p>\n\n<p><strong style="line-height:1.6">Register at discgolfscence.com</strong><span style="line-height:1.6"> until day of tournament. On site registration at 8:00AM. $25.00 </span></p>\n\n<p><span style="line-height:1.6">Registration Fee - includes lunch &amp\; commemorative disc</span></p>\n\n<p>8\;15 AM Dedication of the Yellow River Disc Golf Course<br />\n8:40 AM First Tee Time</p>\n\n<p><span style="line-height:1.6">9:50 AM Approximate 2nd Tee Time</span></p>\n\n<p style="text-align: center\;"><strong><span style="line-height:1.6">Top 8 Players Receive Prize Money&nbsp\;</span></strong></p>\n\n<p style="text-align: center\;"><span style="line-height:1.6">1st $170\, 2nd $100\, 3rd $75\, 4th $30\, 5th-8th $25</span></p>\n\n<p>&nbsp\;</p>\n
LOCATION:Yellow River Disc Golf Course Event Parking at corner of Main & Hemlock St.
UID:e.1627.3067
SEQUENCE:3
DTSTAMP:20260421T223709Z
URL:https://business.newtonchamber.com/events/details/1st-annual-yellow-river-disc-golf-showdown-tournament-3067
END:VEVENT

END:VCALENDAR
