BEGIN:VCALENDAR
VERSION:2.0
PRODID:-//ChamberMaster//Event Calendar 2.0//EN
METHOD:PUBLISH
X-PUBLISHED-TTL:P3D
REFRESH-INTERVAL:P3D
CALSCALE:GREGORIAN
BEGIN:VEVENT
DTSTART:20171022T180000Z
DTEND:20171022T200000Z
X-MICROSOFT-CDO-ALLDAYEVENT:FALSE
SUMMARY:1\,000 Rock Painting Party
DESCRIPTION:Get together to have fun painting rocks and getting to know each other! The goal is to paint 1000 rocks and then hide them all on the same day to majorly ROCK Newton County! :) \n\nWe are attempting to set a record with the Guinness Book of World Records for most rocks painted at an event!! Fingers crossed!\n\nBring your own rocks and paint supplies. There will be limited extra supplies.\n\nAlso\, please bring a snack and drink to share with the group! \n\nThis is going to be a super fun afternoon so don't miss it!
X-ALT-DESC;FMTTYPE=text/html:<span style="font-size:12px"><span style="font-family:arial\,helvetica\,sans-serif">Get together to have fun painting rocks and getting to know each other! The goal is to paint 1000 rocks and then hide them all on the same day to majorly ROCK Newton County! :)&nbsp\;<br />\nWe are attempting to set a record with the Guinness Book of World Records for most rocks painted at an event!! Fingers crossed!<br />\nBring your own rocks and paint supplies. There will be limited extra supplies.<br />\nAlso\, please bring a snack and drink to share with the group!&nbsp\;<br />\nThis is going to be a super fun afternoon so don&#39\;t miss it!</span></span>
LOCATION:Porter Memorial Gym - 2201 Main St.\, Porterdale GA 30014
UID:e.1627.4062
SEQUENCE:3
DTSTAMP:20260422T172857Z
URL:https://business.newtonchamber.com/events/details/1-000-rock-painting-party-4062
END:VEVENT

END:VCALENDAR
